BEGIN:VCALENDAR
VERSION:2.0
PRODID:-//eventon.com NONSGML v1.0//EN
CALSCALE:GREGORIAN
METHOD:PUBLISH
BEGIN:VEVENT
UID:69ea46c5f40d0
DTSTAMP:20260423T162021Z
DTSTART:20260221T091500Z
DTEND:20260221T094500Z
LOCATION:Wimbledon Dance Academy 71 Woodside
SUMMARY:Reception Primary Beginners Ballet Class for Children 4-5 Years Old Feb/Mar 2026
DESCRIPTION:Reception Ballet Class for Children 4-5 years old. Fun class\, 
  full of very basic elements of classical ballet &amp; general co-ordinatio
 n exercises\,  lots of dance based games and imagination development. Child
 ren joining our ballet classes will need a full Royal Academy of Dance unif
 orm\,  including shoes\,  skirt\,  tights &amp; leotard.[..]\nhttps://new.w
 imbledondanceacademy.uk/events/reception-primary-beginners-ballet-class-for
 -children-4-5-years-old-feb-mar-2026
URL:https://new.wimbledondanceacademy.uk/events/reception-primary-beginners-ballet-class-for-children-4-5-years-old-feb-mar-2026
END:VEVENT
END:VCALENDAR