BEGIN:VCALENDAR
VERSION:2.0
PRODID:-//eventon.com NONSGML v1.0//EN
CALSCALE:GREGORIAN
METHOD:PUBLISH
BEGIN:VEVENT
UID:69ea48c4a5fa3
DTSTAMP:20260423T162852Z
DTSTART:20260221T120000Z
DTEND:20260221T130000Z
LOCATION:Wimbledon Dance Academy 71 Woodside
SUMMARY:7-11 years Juvenile Ballroom and Latin Class Feb/Mar 2026
DESCRIPTION:Ballroom and Latin Dance Class for Children (Ages 7–11) No ex
 perience needed – just bring your energy and smiles! This fun and friendl
 y class is the perfect introduction to the exciting world of Ballroom and L
 atin-American dance. Starting from the very basics\,  children will learn t
 he foundations of four lively[..]\nhttps://new.wimbledondanceacademy.uk/eve
 nts/7-11-years-juvenile-ballroom-and-latin-class-feb-mar-2026
URL:https://new.wimbledondanceacademy.uk/events/7-11-years-juvenile-ballroom-and-latin-class-feb-mar-2026
END:VEVENT
END:VCALENDAR