BEGIN:VCALENDAR
VERSION:2.0
PRODID:-//eventon.com NONSGML v1.0//EN
CALSCALE:GREGORIAN
METHOD:PUBLISH
BEGIN:VEVENT
UID:69eb5afd9a73b
DTSTAMP:20260424T115853Z
DTSTART:20260125T120000Z
DTEND:20260125T130000Z
LOCATION:Wimbledon Dance Academy 71 Woodside
SUMMARY:Silver Ballroom & Latin Course 07/12/2025
DESCRIPTION:Silver Ballroom &amp; Latin Course Designed for experienced dan
 cers with 4–5 years or more of training\,  this class offers advanced cho
 reography and technique across both Ballroom and Latin styles. Perfect for 
 dedicated social dancers and aspiring competitors alike\,  this level chall
 enges you to refine your movement\,  enhance partner connection\,  and[..]\
 nhttps://new.wimbledondanceacademy.uk/events/silver-ballroom-latin-dance-co
 urse-12-07-2025/var/ri-6.l-L1
URL:https://new.wimbledondanceacademy.uk/events/silver-ballroom-latin-dance-course-12-07-2025/var/ri-6.l-L1
END:VEVENT
END:VCALENDAR