BEGIN:VCALENDAR
VERSION:2.0
PRODID:-//eventon.com NONSGML v1.0//EN
CALSCALE:GREGORIAN
METHOD:PUBLISH
BEGIN:VEVENT
UID:69ea491631fef
DTSTAMP:20260423T163014Z
DTSTART:20260110T130000Z
DTEND:20260110T140000Z
LOCATION:Wimbledon Dance Academy 71 Woodside
SUMMARY:12-16 years Intermediate Ballroom and Latin Class Jan/Feb 2026
DESCRIPTION:Intermediate Ballroom and Latin Dance Class (Ages 12–16) For 
 dancers with 1+ years of experience This class is designed for young dancer
 s ready to take their skills to the next level. Ideal for those with over a
  year of training\,  students should already have a basic understanding of 
 at least[..]\nhttps://new.wimbledondanceacademy.uk/events/12-16-years-inter
 mediate-ballroom-and-latin-class-jan-feb-2026
URL:https://new.wimbledondanceacademy.uk/events/12-16-years-intermediate-ballroom-and-latin-class-jan-feb-2026
END:VEVENT
END:VCALENDAR