BEGIN:VCALENDAR
VERSION:2.0
PRODID:-//eventon.com NONSGML v1.0//EN
CALSCALE:GREGORIAN
METHOD:PUBLISH
BEGIN:VEVENT
UID:69ea46ee0f276
DTSTAMP:20260423T162102Z
DTSTART:20260110T094500Z
DTEND:20260110T101500Z
LOCATION:Wimbledon Dance Academy 71 Woodside
SUMMARY:Improvers' Ballet Class 5-7 years old Jan/Mar 2026
DESCRIPTION:Fun Ballet &amp; Coordination Class for Improvers A lively and 
 imaginative Improvers&#8217; Ballet Class designed to introduce children to
  the basic elements of classical ballet and general coordination skills. Th
 rough playful exercises\,  creative games\,  and storytelling\,  dancers de
 velop balance\,  rhythm\,  musicality\,  and self-expression. This class bu
 ilds the foundations for the[..]\nhttps://new.wimbledondanceacademy.uk/even
 ts/improvers-ballet-class-5-7-years-old-jan-mar-2026
URL:https://new.wimbledondanceacademy.uk/events/improvers-ballet-class-5-7-years-old-jan-mar-2026
END:VEVENT
END:VCALENDAR