BEGIN:VCALENDAR
VERSION:2.0
PRODID:-//eventon.com NONSGML v1.0//EN
CALSCALE:GREGORIAN
METHOD:PUBLISH
BEGIN:VEVENT
UID:69eb88d1f2016
DTSTAMP:20260424T151425Z
DTSTART:20260321T094500Z
DTEND:20260321T101500Z
LOCATION:Wimbledon Dance Academy 71 Woodside
SUMMARY:8-10 years old Ballet Aspirations Class Jan/Mar 2026
DESCRIPTION:Ballet Aspirations Class Designed for aspiring young dancers\, 
  this Intermediate-level class refines classical technique\,  fosters expre
 ssive movement\,  and supports consistent progress. Students build strength
 \,  flexibility\,  and musicality while developing confidence in more compl
 ex steps and combinations. The class encourages artistry alongside technica
 l growth\,  creating a supportive environment where dancers can[..]\nhttps:
 //new.wimbledondanceacademy.uk/events/ballet-aspiration-class-8-10-years-ol
 d-jan-mar-2026/var/ri-9.l-L1
URL:https://new.wimbledondanceacademy.uk/events/ballet-aspiration-class-8-10-years-old-jan-mar-2026/var/ri-9.l-L1
END:VEVENT
END:VCALENDAR