BEGIN:VCALENDAR
VERSION:2.0
PRODID:-//eventon.com NONSGML v1.0//EN
CALSCALE:GREGORIAN
METHOD:PUBLISH
BEGIN:VEVENT
UID:69eaafb5673ea
DTSTAMP:20260423T234805Z
DTSTART:20260117T094500Z
DTEND:20260117T101500Z
LOCATION:Wimbledon Dance Academy 71 Woodside
SUMMARY:10-12 years old Grade 3 (Part 2) Ballet Class Jan/Mar 2026
DESCRIPTION:Advanced Ballet Class for Young Graces\,  aimed at technical de
 velopment and creative movement.A minimum of 3 years ballet experience requ
 ired. Saturdays 11.00 &#8211; 11.45 amSubscription by interview. Sat\,  10t
 h January until Sat\,  28th March. Half Term break 14th February. (11 weeks
 )       .    \nhttps://new.wimbledondanceacademy.uk/events/10-12-years
 -old-grade-3-2-ballet-class-jan-mar-2026/var/ri-1.l-L1
URL:https://new.wimbledondanceacademy.uk/events/10-12-years-old-grade-3-2-ballet-class-jan-mar-2026/var/ri-1.l-L1
END:VEVENT
END:VCALENDAR