BEGIN:VCALENDAR
VERSION:2.0
PRODID:-//eventon.com NONSGML v1.0//EN
CALSCALE:GREGORIAN
METHOD:PUBLISH
BEGIN:VEVENT
UID:69ea9a88178df
DTSTAMP:20260423T221744Z
DTSTART:20260116T163000Z
DTEND:20260116T173000Z
LOCATION:
SUMMARY:Urban and Street Dance Class for Kids Jan/Feb
DESCRIPTION:Our Urban and Street Dance Class for Kids is a high-energy\,  f
 un-filled fusion of street styles like hip hop\,  breaking\,  popping\,  an
 d more—specially designed for children of all abilities and experience le
 vels. Each class is tailored to ensure that every child feels included\,  c
 hallenged\,  and encouraged\,  whether they’re just starting[..]\nhttps:/
 /new.wimbledondanceacademy.uk/events/urban-and-street-dance-class-for-kids-
 jan-feb/var/ri-1.l-L1
URL:https://new.wimbledondanceacademy.uk/events/urban-and-street-dance-class-for-kids-jan-feb/var/ri-1.l-L1
END:VEVENT
END:VCALENDAR