BEGIN:VCALENDAR
VERSION:2.0
PRODID:-//eventon.com NONSGML v1.0//EN
CALSCALE:GREGORIAN
METHOD:PUBLISH
BEGIN:VEVENT
UID:69eaaf9859e7e
DTSTAMP:20260423T234736Z
DTSTART:20260206T173000Z
DTEND:20260206T183000Z
LOCATION:
SUMMARY:Urban and Street Dance Class for Teenagers Jan/Feb 2026
DESCRIPTION:This high-energy street dance class is a fun-filled fusion of u
 rban dance styles\,  tailored specifically for teenagers with mixed abiliti
 es and levels of experience. Whether you&#8217;re new to dance or have some
  moves already\,  each session is designed to help you feel confident\,  in
 cluded\,  and inspired. Our supportive environment encourages[..]\nhttps://
 new.wimbledondanceacademy.uk/events/urban-and-street-dance-class-for-teenag
 ers-jan-feb-copy/var/ri-4.l-L1
URL:https://new.wimbledondanceacademy.uk/events/urban-and-street-dance-class-for-teenagers-jan-feb-copy/var/ri-4.l-L1
END:VEVENT
END:VCALENDAR