BEGIN:VCALENDAR
VERSION:2.0
PRODID:-//eventon.com NONSGML v1.0//EN
CALSCALE:GREGORIAN
METHOD:PUBLISH
BEGIN:VEVENT
UID:69eb46dfd6d4a
DTSTAMP:20260424T103303Z
DTSTART:20260315T110000Z
DTEND:20260315T120000Z
LOCATION:Wimbledon Dance Academy 71 Woodside
SUMMARY:Level 1 Beginners' Ballroom and Latin Dance Course 08/02/2026
DESCRIPTION:Level 1 Ballroom and Latin Dance Course for Absolute Beginners 
 Ready to hit the dance floor without stepping on your partner’s feet? Thi
 s fun and engaging Ballroom &amp; Latin Dance course is designed specifical
 ly for beginners\,  introducing you to the fundamentals of Ballroom and Lat
 in American dances—including the Waltz\,  Foxtrot\, [..]\nhttps://new.wim
 bledondanceacademy.uk/events/level-1-beginners-ballroom-and-latin-dance-cou
 rse-08-02-2026/var/ri-5.l-L1
URL:https://new.wimbledondanceacademy.uk/events/level-1-beginners-ballroom-and-latin-dance-course-08-02-2026/var/ri-5.l-L1
END:VEVENT
END:VCALENDAR