BEGIN:VCALENDAR
VERSION:2.0
PRODID:-//eventon.com NONSGML v1.0//EN
CALSCALE:GREGORIAN
METHOD:PUBLISH
BEGIN:VEVENT
UID:69ea83686d34e
DTSTAMP:20260423T203904Z
DTSTART:20260126T200000Z
DTEND:20260126T210000Z
LOCATION:Wimbledon Dance Academy 71 Woodside
SUMMARY:Level 2 Ballroom & Latin Dance Course 26/01/2026
DESCRIPTION:                                    Ballroom 
 &amp; Latin Dance Course – Level 2 This Ballroom &amp; Latin course is id
 eal for dancers who are ready to take the next step in their dance journey 
 by exploring more[..]\nhttps://new.wimbledondanceacademy.uk/events/level-2-
 ballroom-latin-dance-course-26-01-2026
URL:https://new.wimbledondanceacademy.uk/events/level-2-ballroom-latin-dance-course-26-01-2026
END:VEVENT
END:VCALENDAR