BEGIN:VCALENDAR
VERSION:2.0
PRODID:-//eventon.com NONSGML v1.0//EN
CALSCALE:GREGORIAN
METHOD:PUBLISH
BEGIN:VEVENT
UID:69eac6d22eb06
DTSTAMP:20260424T012642Z
DTSTART:20260304T210000Z
DTEND:20260304T220000Z
LOCATION:Wimbledon Dance Academy 71 Woodside
SUMMARY:Level 3 Ballroom & Latin Course 25/02/2026
DESCRIPTION:This Ballroom and Latin dance course is designed for dancers wh
 o are eager to take their skills to the next level by learning slightly mor
 e advanced choreography and refining their dance techniques. Building on th
 e foundations established in previous courses\,  students will deepen their
  understanding of rhythm\,  timing\,  and expression.[..]\nhttps://new.wimb
 ledondanceacademy.uk/events/level-3-ballroom-latin-dance-course-25-02-2026/
 var/ri-1.l-L1
URL:https://new.wimbledondanceacademy.uk/events/level-3-ballroom-latin-dance-course-25-02-2026/var/ri-1.l-L1
END:VEVENT
END:VCALENDAR