BEGIN:VCALENDAR
VERSION:2.0
PRODID:-//eventon.com NONSGML v1.0//EN
CALSCALE:GREGORIAN
METHOD:PUBLISH
BEGIN:VEVENT
UID:69eac715634c5
DTSTAMP:20260424T012749Z
DTSTART:20260308T140000Z
DTEND:20260308T150000Z
LOCATION:Wimbledon Dance Academy 71 Woodside
SUMMARY:Level 4 Ballroom & Latin Course 01/03/2026
DESCRIPTION:Another step closer to glide across the dance floor like a Pro.
  This dance course offers more than just dance steps. Focused on developing
  the technique of Ballroom and Latin dances taught at the lower levels\,  g
 iving you more confidence when you get on the dance floor.   This dance[..
 ]\nhttps://new.wimbledondanceacademy.uk/events/level-4-ballroom-latin-dance
 -course-01-03-2026/var/ri-1.l-L1
URL:https://new.wimbledondanceacademy.uk/events/level-4-ballroom-latin-dance-course-01-03-2026/var/ri-1.l-L1
END:VEVENT
END:VCALENDAR