BEGIN:VCALENDAR
VERSION:2.0
PRODID:-//eventon.com NONSGML v1.0//EN
CALSCALE:GREGORIAN
METHOD:PUBLISH
BEGIN:VEVENT
UID:69eb21e10dfe0
DTSTAMP:20260424T075513Z
DTSTART:20260302T210000Z
DTEND:20260302T220000Z
LOCATION:Wimbledon Dance Academy 71 Woodside
SUMMARY:Level 5+ Ballroom & Latin Course 26/01/2026
DESCRIPTION:In this Level 5 Ballroom &amp; Latin Course\,  the focus is on 
 refining your footwork and movement to help you feel more confident and con
 nected on the dance floor. We’ll work on improving your spins\,  turns\, 
  and pivots—common elements in many partner dances—so they feel smooth\
 ,  controlled\,  and enjoyable. Solid[..]\nhttps://new.wimbledondanceacadem
 y.uk/events/level-5-ballroom-latin-dance-course-26-01-2026/var/ri-5.l-L1
URL:https://new.wimbledondanceacademy.uk/events/level-5-ballroom-latin-dance-course-26-01-2026/var/ri-5.l-L1
END:VEVENT
END:VCALENDAR