BEGIN:VCALENDAR
VERSION:2.0
PRODID:-//eventon.com NONSGML v1.0//EN
CALSCALE:GREGORIAN
METHOD:PUBLISH
BEGIN:VEVENT
UID:69eadf1e846bb
DTSTAMP:20260424T031022Z
DTSTART:20260216T190000Z
DTEND:20260216T200000Z
LOCATION:Wimbledon Dance Academy 71 Woodside
SUMMARY:Level 6+ Ballroom & Latin Dance Course /02/2026
DESCRIPTION:Ballroom &amp; Latin Dance Course – Intermediate to Advanced 
 Level This course is perfect for dancers with 1–2 years or more of prior 
 experience in Ballroom and Latin dance. It focuses on advanced choreography
  and refined technique\,  helping you build confidence\,  precision\,  and 
 a deeper understanding of dance fundamentals. Whether[..]\nhttps://new.wimb
 ledondanceacademy.uk/product/ticket-level-6-ballroom-latin-course-02-02-202
 6/var/ri-2.l-L1
URL:https://new.wimbledondanceacademy.uk/product/ticket-level-6-ballroom-latin-course-02-02-2026/var/ri-2.l-L1
END:VEVENT
END:VCALENDAR