BEGIN:VCALENDAR
VERSION:2.0
PRODID:-//eventon.com NONSGML v1.0//EN
CALSCALE:GREGORIAN
METHOD:PUBLISH
BEGIN:VEVENT
UID:69ea6dcee986d
DTSTAMP:20260423T190654Z
DTSTART:20260207T180000Z
DTEND:20260207T190000Z
LOCATION:Wimbledon Dance Academy 71 Woodside
SUMMARY:Bronze Ballroom & Latin Course 07/02/2026
DESCRIPTION:Bronze Ballroom &amp; Latin Course Ideal for dancers with 1–2
  years (or more) of experience\,  this class focuses on advanced choreograp
 hy and refined technique across Ballroom and Latin styles. Whether you&#821
 7;re looking to take your social dancing to the next level or preparing for
  competition\,  this class offers the challenge[..]\nhttps://new.wimbledond
 anceacademy.uk/events/silver-ballroom-latin-dance-course-07-02-2026
URL:https://new.wimbledondanceacademy.uk/events/silver-ballroom-latin-dance-course-07-02-2026
END:VEVENT
END:VCALENDAR