BEGIN:VCALENDAR
VERSION:2.0
PRODID:-//eventon.com NONSGML v1.0//EN
CALSCALE:GREGORIAN
METHOD:PUBLISH
BEGIN:VEVENT
UID:69eb5dab6cf79
DTSTAMP:20260424T121019Z
DTSTART:20260328T180000Z
DTEND:20260328T190000Z
LOCATION:Wimbledon Dance Academy 71 Woodside
SUMMARY:Bronze Ballroom & Latin Course 07/02/2026
DESCRIPTION:Bronze Ballroom &amp; Latin Course Ideal for dancers with 1–2
  years (or more) of experience\,  this class focuses on advanced choreograp
 hy and refined technique across Ballroom and Latin styles. Whether you&#821
 7;re looking to take your social dancing to the next level or preparing for
  competition\,  this class offers the challenge[..]\nhttps://new.wimbledond
 anceacademy.uk/events/silver-ballroom-latin-dance-course-07-02-2026/var/ri-
 7.l-L1
URL:https://new.wimbledondanceacademy.uk/events/silver-ballroom-latin-dance-course-07-02-2026/var/ri-7.l-L1
END:VEVENT
END:VCALENDAR